BEGIN:VCALENDAR
VERSION:2.0
PRODID:-//Sophicity/Tribune/Midway, KY
BEGIN:VEVENT
DTSTAMP:20260422T011020Z
UID:3b29fe0f-a6f5-4a24-a8c3-7164fb90467d-4504
DTSTART:20211126T233000Z
DTEND:20211127T013000Z
CLASS:PUBLIC
SUMMARY:Christmas Tree Lighting
END:VEVENT
END:VCALENDAR
